BEGIN:VCALENDAR
VERSION:2.0
PRODID:-//Stefan Huber - ECPv6.2.3//NONSGML v1.0//EN
CALSCALE:GREGORIAN
METHOD:PUBLISH
X-WR-CALNAME:Stefan Huber
X-ORIGINAL-URL:https://stefanhuber.ch
X-WR-CALDESC:Veranstaltungen für Stefan Huber
REFRESH-INTERVAL;VALUE=DURATION:PT1H
X-Robots-Tag:noindex
X-PUBLISHED-TTL:PT1H
BEGIN:VTIMEZONE
TZID:Europe/Zurich
BEGIN:DAYLIGHT
TZOFFSETFROM:+0100
TZOFFSETTO:+0200
TZNAME:CEST
DTSTART:20230326T010000
END:DAYLIGHT
BEGIN:STANDARD
TZOFFSETFROM:+0200
TZOFFSETTO:+0100
TZNAME:CET
DTSTART:20231029T010000
END:STANDARD
END:VTIMEZONE
BEGIN:VEVENT
DTSTART;TZID=Europe/Zurich:20230829T113000
DTEND;TZID=Europe/Zurich:20230829T200000
DTSTAMP:20231022T075314
CREATED:20230820T130157Z
LAST-MODIFIED:20230820T130157Z
UID:943-1693308600-1693339200@stefanhuber.ch
SUMMARY:Untersriftensammelaktion für die Inklusionsinitiative
DESCRIPTION:
URL:https://stefanhuber.ch/event/untersriftensammelaktion-fuer-die-inklusionsinitiative
LOCATION:Gemeindehausplatz\, Hauptstrasse 10\, 4153\, Reinach BL
END:VEVENT
END:VCALENDAR